BEGIN:VCALENDAR
PRODID:Wortell/13394
VERSION:2.0
CALSCALE:GREGORIAN
BEGIN:VEVENT
UID:8259ff81433ba79566aaecd520250ce2
DTSTAMP:20260422T233817Z
SUMMARY:Bouw aan een digitale werkplek die werkt. https://www.wortell.be/ev
 enementen/webinar-bouw-aan-een-digitale-werkplek-die-werkt
DTSTART;TZID=Europe/Amsterdam:20250605T100000
DTEND;TZID=Europe/Amsterdam:20250605T103000
END:VEVENT
END:VCALENDAR
