BEGIN:VCALENDAR
PRODID:Wortell/13602
VERSION:2.0
CALSCALE:GREGORIAN
BEGIN:VEVENT
UID:7a1bce9e5390a60ccfa577cc7227f2b3
DTSTAMP:20260423T234554Z
SUMMARY:Grip op kennis in je organisatie https://www.wortell.be/evenementen
 /grip-op-kennis-in-je-organisatie
DTSTART;TZID=Europe/Amsterdam:20260423T130000
DTEND;TZID=Europe/Amsterdam:20260423T140000
END:VEVENT
END:VCALENDAR
